Package: iSEEhub Version: 1.6.0 Command: /Library/Frameworks/R.framework/Resources/bin/R CMD INSTALL iSEEhub StartedAt: 2024-06-09 15:23:09 -0400 (Sun, 09 Jun 2024) EndedAt: 2024-06-09 15:23:54 -0400 (Sun, 09 Jun 2024) EllapsedTime: 44.4 seconds RetCode: 0 Status: OK