Package: iSEEhex Version: 1.6.0 Command: chmod a+r iSEEhex -R && E:\biocbuild\bbs-3.19-bioc\R\bin\R.exe CMD build --keep-empty-dirs --no-resave-data iSEEhex StartedAt: 2024-10-16 19:53:33 -0400 (Wed, 16 Oct 2024) EndedAt: 2024-10-16 19:54:43 -0400 (Wed, 16 Oct 2024) EllapsedTime: 70.0 seconds RetCode: 0 Status: OK PackageFile: iSEEhex_1.6.0.tar.gz PackageFileSize: 486.4 KiB