Package: iSEEhex Version: 1.6.0 Command: /Library/Frameworks/R.framework/Resources/bin/R CMD check --install=check:iSEEhex.install-out.txt --library=/Library/Frameworks/R.framework/Resources/library --no-vignettes --timings iSEEhex_1.6.0.tar.gz StartedAt: 2024-10-17 07:08:25 -0400 (Thu, 17 Oct 2024) EndedAt: 2024-10-17 07:17:30 -0400 (Thu, 17 Oct 2024) EllapsedTime: 545.7 seconds RetCode: 0 Status: OK CheckDir: iSEEhex.Rcheck Warnings: 0