Package: iSEEfier Version: 1.0.0 Command: /Library/Frameworks/R.framework/Resources/bin/R CMD check --install=check:iSEEfier.install-out.txt --library=/Library/Frameworks/R.framework/Resources/library --no-vignettes --timings iSEEfier_1.0.0.tar.gz StartedAt: 2024-10-18 01:33:26 -0400 (Fri, 18 Oct 2024) EndedAt: 2024-10-18 01:38:02 -0400 (Fri, 18 Oct 2024) EllapsedTime: 275.9 seconds RetCode: 1 Status: ERROR CheckDir: iSEEfier.Rcheck Warnings: NA