Package: iSEE Version: 2.16.0 Command: rm -rf iSEE.buildbin-libdir && mkdir iSEE.buildbin-libdir && E:\biocbuild\bbs-3.19-bioc\R\bin\R.exe CMD INSTALL --build --library=iSEE.buildbin-libdir iSEE_2.16.0.tar.gz StartedAt: 2024-10-17 08:00:24 -0400 (Thu, 17 Oct 2024) EndedAt: 2024-10-17 08:02:23 -0400 (Thu, 17 Oct 2024) EllapsedTime: 119.8 seconds RetCode: 0 Status: OK PackageFile: iSEE_2.16.0.zip PackageFileSize: 22.23 MiB