Package: iSEE Version: 2.16.0 Command: /home/biocbuild/bbs-3.19-bioc/R/bin/R CMD INSTALL iSEE StartedAt: 2024-10-16 16:21:44 -0400 (Wed, 16 Oct 2024) EndedAt: 2024-10-16 16:22:22 -0400 (Wed, 16 Oct 2024) EllapsedTime: 37.7 seconds RetCode: 0 Status: OK