Package: iSEE Version: 2.16.0 Command: /home/biocbuild/bbs-3.19-bioc/R/bin/R CMD check --install=check:iSEE.install-out.txt --library=/home/biocbuild/bbs-3.19-bioc/R/site-library --timings iSEE_2.16.0.tar.gz StartedAt: 2024-10-17 01:41:31 -0400 (Thu, 17 Oct 2024) EndedAt: 2024-10-17 01:49:00 -0400 (Thu, 17 Oct 2024) EllapsedTime: 449.0 seconds RetCode: 0 Status: OK CheckDir: iSEE.Rcheck Warnings: 0