Package: iSEE Version: 2.16.0 Command: /Library/Frameworks/R.framework/Resources/bin/R CMD check --install=check:iSEE.install-out.txt --library=/Library/Frameworks/R.framework/Resources/library --no-vignettes --timings iSEE_2.16.0.tar.gz StartedAt: 2024-10-17 07:07:02 -0400 (Thu, 17 Oct 2024) EndedAt: 2024-10-17 07:20:10 -0400 (Thu, 17 Oct 2024) EllapsedTime: 787.6 seconds RetCode: 0 Status: OK CheckDir: iSEE.Rcheck Warnings: 0