Package: iSEE Version: 2.16.0 Command: /Library/Frameworks/R.framework/Resources/bin/R CMD build --keep-empty-dirs --no-resave-data iSEE StartedAt: 2024-10-16 20:15:43 -0400 (Wed, 16 Oct 2024) EndedAt: 2024-10-16 20:21:03 -0400 (Wed, 16 Oct 2024) EllapsedTime: 319.7 seconds RetCode: 0 Status: OK PackageFile: iSEE_2.16.0.tar.gz PackageFileSize: 25.36 MiB