Package: iSEE Version: 2.16.0 Command: /home/biocbuild/R/R-beta-2024-04-15_r86425/bin/R CMD check --install=check:iSEE.install-out.txt --library=/home/biocbuild/R/R-beta-2024-04-15_r86425/site-library --no-vignettes --timings iSEE_2.16.0.tar.gz StartedAt: 2024-05-09 08:41:06 -0000 (Thu, 09 May 2024) EndedAt: 2024-05-09 08:48:04 -0000 (Thu, 09 May 2024) EllapsedTime: 417.8 seconds RetCode: 0 Status: OK CheckDir: iSEE.Rcheck Warnings: 0