Package: iSEE Version: 2.16.0 Command: /Library/Frameworks/R.framework/Resources/bin/R CMD build --keep-empty-dirs --no-resave-data iSEE StartedAt: 2024-06-09 23:23:08 -0400 (Sun, 09 Jun 2024) EndedAt: 2024-06-09 23:26:38 -0400 (Sun, 09 Jun 2024) EllapsedTime: 210.4 seconds RetCode: 0 Status: OK PackageFile: iSEE_2.16.0.tar.gz PackageFileSize: 25.36 MiB