Package: iPath Version: 1.10.0 Command: E:\biocbuild\bbs-3.19-bioc\R\bin\R.exe CMD INSTALL iPath StartedAt: 2024-10-16 17:21:43 -0400 (Wed, 16 Oct 2024) EndedAt: 2024-10-16 17:22:57 -0400 (Wed, 16 Oct 2024) EllapsedTime: 74.0 seconds RetCode: 0 Status: OK