Package: iPath Version: 1.10.0 Command: chmod a+r iPath -R && E:\biocbuild\bbs-3.19-bioc\R\bin\R.exe CMD build --keep-empty-dirs --no-resave-data iPath StartedAt: 2024-10-16 19:52:34 -0400 (Wed, 16 Oct 2024) EndedAt: 2024-10-16 19:53:41 -0400 (Wed, 16 Oct 2024) EllapsedTime: 67.9 seconds RetCode: 1 Status: ERROR PackageFile: None PackageFileSize: NA