Package: iPath Version: 1.10.0 Command: chmod a+r iPath -R && F:\biocbuild\bbs-3.19-bioc\R\bin\R.exe CMD build --keep-empty-dirs --no-resave-data iPath StartedAt: 2024-06-26 19:37:48 -0400 (Wed, 26 Jun 2024) EndedAt: 2024-06-26 19:38:53 -0400 (Wed, 26 Jun 2024) EllapsedTime: 64.7 seconds RetCode: 1 Status: ERROR PackageFile: None PackageFileSize: NA