Package: iPath Version: 1.10.0 Command: /Library/Frameworks/R.framework/Resources/bin/R CMD build --keep-empty-dirs --no-resave-data iPath StartedAt: 2024-10-16 20:14:54 -0400 (Wed, 16 Oct 2024) EndedAt: 2024-10-16 20:16:18 -0400 (Wed, 16 Oct 2024) EllapsedTime: 83.7 seconds RetCode: 0 Status: OK PackageFile: iPath_1.10.0.tar.gz PackageFileSize: 2.989 MiB