Package: iPath Version: 1.10.0 Command: /Library/Frameworks/R.framework/Resources/bin/R CMD INSTALL iPath StartedAt: 2024-10-16 18:56:53 -0400 (Wed, 16 Oct 2024) EndedAt: 2024-10-16 18:57:13 -0400 (Wed, 16 Oct 2024) EllapsedTime: 20.6 seconds RetCode: 0 Status: OK