Package: iPath Version: 1.10.0 Command: /Library/Frameworks/R.framework/Resources/bin/R CMD check --install=check:iPath.install-out.txt --library=/Library/Frameworks/R.framework/Resources/library --no-vignettes --timings iPath_1.10.0.tar.gz StartedAt: 2024-10-18 01:29:16 -0400 (Fri, 18 Oct 2024) EndedAt: 2024-10-18 01:31:28 -0400 (Fri, 18 Oct 2024) EllapsedTime: 131.9 seconds RetCode: 0 Status: OK CheckDir: iPath.Rcheck Warnings: 0