Package: iPath Version: 1.10.0 Command: /Library/Frameworks/R.framework/Resources/bin/R CMD build --keep-empty-dirs --no-resave-data iPath StartedAt: 2024-10-17 02:57:33 -0400 (Thu, 17 Oct 2024) EndedAt: 2024-10-17 02:58:18 -0400 (Thu, 17 Oct 2024) EllapsedTime: 45.3 seconds RetCode: 0 Status: OK PackageFile: iPath_1.10.0.tar.gz PackageFileSize: 2.989 MiB