Package: iPAC Version: 1.48.0 Command: E:\biocbuild\bbs-3.19-bioc\R\bin\R.exe CMD INSTALL iPAC StartedAt: 2024-10-16 17:03:08 -0400 (Wed, 16 Oct 2024) EndedAt: 2024-10-16 17:03:28 -0400 (Wed, 16 Oct 2024) EllapsedTime: 19.7 seconds RetCode: 0 Status: OK