Package: iPAC Version: 1.48.0 Command: /home/biocbuild/bbs-3.19-bioc/R/bin/R CMD INSTALL iPAC StartedAt: 2024-10-16 16:32:22 -0400 (Wed, 16 Oct 2024) EndedAt: 2024-10-16 16:32:36 -0400 (Wed, 16 Oct 2024) EllapsedTime: 14.6 seconds RetCode: 0 Status: OK