Package: iPAC Version: 1.48.0 Command: /home/biocbuild/bbs-3.19-bioc/R/bin/R CMD check --install=check:iPAC.install-out.txt --library=/home/biocbuild/bbs-3.19-bioc/R/site-library --timings iPAC_1.48.0.tar.gz StartedAt: 2024-10-17 01:40:29 -0400 (Thu, 17 Oct 2024) EndedAt: 2024-10-17 01:43:46 -0400 (Thu, 17 Oct 2024) EllapsedTime: 196.4 seconds RetCode: 1 Status: ERROR CheckDir: iPAC.Rcheck Warnings: NA