Package: iPAC Version: 1.48.0 Command: /Library/Frameworks/R.framework/Resources/bin/R CMD INSTALL iPAC StartedAt: 2024-10-16 18:05:25 -0400 (Wed, 16 Oct 2024) EndedAt: 2024-10-16 18:05:42 -0400 (Wed, 16 Oct 2024) EllapsedTime: 17.5 seconds RetCode: 0 Status: OK