Package: iPAC Version: 1.48.0 Command: /Library/Frameworks/R.framework/Resources/bin/R CMD check --install=check:iPAC.install-out.txt --library=/Library/Frameworks/R.framework/Resources/library --no-vignettes --timings iPAC_1.48.0.tar.gz StartedAt: 2024-10-18 01:28:13 -0400 (Fri, 18 Oct 2024) EndedAt: 2024-10-18 01:32:21 -0400 (Fri, 18 Oct 2024) EllapsedTime: 247.3 seconds RetCode: 0 Status: OK CheckDir: iPAC.Rcheck Warnings: 0