Package: iNETgrate Version: 1.2.0 Command: F:\biocbuild\bbs-3.19-bioc\R\bin\R.exe CMD check --no-multiarch --install=check:iNETgrate.install-out.txt --library=F:\biocbuild\bbs-3.19-bioc\R\library --no-vignettes --timings iNETgrate_1.2.0.tar.gz StartedAt: 2024-06-27 02:45:46 -0400 (Thu, 27 Jun 2024) EndedAt: 2024-06-27 03:02:53 -0400 (Thu, 27 Jun 2024) EllapsedTime: 1027.7 seconds RetCode: 0 Status: OK CheckDir: iNETgrate.Rcheck Warnings: 0