Package: iNETgrate Version: 1.2.0 Command: chmod a+r iNETgrate -R && F:\biocbuild\bbs-3.19-bioc\R\bin\R.exe CMD build --keep-empty-dirs --no-resave-data iNETgrate StartedAt: 2024-06-26 19:35:10 -0400 (Wed, 26 Jun 2024) EndedAt: 2024-06-26 19:40:50 -0400 (Wed, 26 Jun 2024) EllapsedTime: 339.9 seconds RetCode: 0 Status: OK PackageFile: iNETgrate_1.2.0.tar.gz PackageFileSize: 3.97 MiB