Package: iNETgrate Version: 1.2.0 Command: rm -rf iNETgrate.buildbin-libdir && mkdir iNETgrate.buildbin-libdir && F:\biocbuild\bbs-3.19-bioc\R\bin\R.exe CMD INSTALL --build --library=iNETgrate.buildbin-libdir iNETgrate_1.2.0.tar.gz StartedAt: 2024-06-27 08:22:49 -0400 (Thu, 27 Jun 2024) EndedAt: 2024-06-27 08:24:11 -0400 (Thu, 27 Jun 2024) EllapsedTime: 82.1 seconds RetCode: 0 Status: OK PackageFile: iNETgrate_1.2.0.zip PackageFileSize: 4.189 MiB