Package: iNETgrate Version: 1.2.0 Command: /home/biocbuild/bbs-3.19-bioc/R/bin/R CMD build --keep-empty-dirs --no-resave-data iNETgrate StartedAt: 2024-10-16 19:03:40 -0400 (Wed, 16 Oct 2024) EndedAt: 2024-10-16 19:07:19 -0400 (Wed, 16 Oct 2024) EllapsedTime: 219.4 seconds RetCode: 0 Status: OK PackageFile: iNETgrate_1.2.0.tar.gz PackageFileSize: 3.98 MiB