Package: iNETgrate Version: 1.2.0 Command: /Library/Frameworks/R.framework/Resources/bin/R CMD build --keep-empty-dirs --no-resave-data iNETgrate StartedAt: 2024-10-16 20:10:13 -0400 (Wed, 16 Oct 2024) EndedAt: 2024-10-16 20:18:50 -0400 (Wed, 16 Oct 2024) EllapsedTime: 516.6 seconds RetCode: 0 Status: OK PackageFile: iNETgrate_1.2.0.tar.gz PackageFileSize: 3.979 MiB