Package: iNETgrate Version: 1.2.0 Command: rm -rf iNETgrate.buildbin-libdir && mkdir iNETgrate.buildbin-libdir && /Users/biocbuild/BBS/utils/build-universal.sh iNETgrate_1.2.0.tar.gz /Library/Frameworks/R.framework/Resources/bin/R iNETgrate.buildbin-libdir StartedAt: 2024-10-17 16:23:34 -0400 (Thu, 17 Oct 2024) EndedAt: 2024-10-17 16:25:40 -0400 (Thu, 17 Oct 2024) EllapsedTime: 126.9 seconds RetCode: 0 Status: OK PackageFile: iNETgrate_1.2.0.tgz PackageFileSize: 4.19 MiB