Package: iNETgrate Version: 1.2.0 Command: /home/biocbuild/R/R-beta-2024-04-15_r86425/bin/R CMD build --keep-empty-dirs --no-resave-data iNETgrate StartedAt: 2024-05-09 01:05:05 -0000 (Thu, 09 May 2024) EndedAt: 2024-05-09 01:10:02 -0000 (Thu, 09 May 2024) EllapsedTime: 296.4 seconds RetCode: 0 Status: OK PackageFile: iNETgrate_1.2.0.tar.gz PackageFileSize: 3.959 MiB