Package: iNETgrate Version: 1.2.0 Command: /Library/Frameworks/R.framework/Resources/bin/R CMD check --install=check:iNETgrate.install-out.txt --library=/Library/Frameworks/R.framework/Resources/library --no-vignettes --timings iNETgrate_1.2.0.tar.gz StartedAt: 2024-10-18 01:10:20 -0400 (Fri, 18 Oct 2024) EndedAt: 2024-10-18 01:27:23 -0400 (Fri, 18 Oct 2024) EllapsedTime: 1022.5 seconds RetCode: 0 Status: OK CheckDir: iNETgrate.Rcheck Warnings: 0