Package: iGC Version: 1.34.0 Command: rm -rf iGC.buildbin-libdir && mkdir iGC.buildbin-libdir && E:\biocbuild\bbs-3.19-bioc\R\bin\R.exe CMD INSTALL --build --library=iGC.buildbin-libdir iGC_1.34.0.tar.gz StartedAt: 2024-10-17 07:58:54 -0400 (Thu, 17 Oct 2024) EndedAt: 2024-10-17 07:59:15 -0400 (Thu, 17 Oct 2024) EllapsedTime: 20.6 seconds RetCode: 0 Status: OK PackageFile: iGC_1.34.0.zip PackageFileSize: 3.132 MiB