Package: iGC Version: 1.34.0 Command: /home/biocbuild/bbs-3.19-bioc/R/bin/R CMD build --keep-empty-dirs --no-resave-data iGC StartedAt: 2024-10-16 19:01:56 -0400 (Wed, 16 Oct 2024) EndedAt: 2024-10-16 19:02:22 -0400 (Wed, 16 Oct 2024) EllapsedTime: 26.0 seconds RetCode: 0 Status: OK PackageFile: iGC_1.34.0.tar.gz PackageFileSize: 2.95 MiB