Package: iGC Version: 1.34.0 Command: /home/biocbuild/R/R-beta-2024-04-15_r86425/bin/R CMD build --keep-empty-dirs --no-resave-data iGC StartedAt: 2024-05-09 01:02:51 -0000 (Thu, 09 May 2024) EndedAt: 2024-05-09 01:03:27 -0000 (Thu, 09 May 2024) EllapsedTime: 36.1 seconds RetCode: 0 Status: OK PackageFile: iGC_1.34.0.tar.gz PackageFileSize: 2.974 MiB