Package: iGC Version: 1.34.0 Command: rm -rf iGC.buildbin-libdir && mkdir iGC.buildbin-libdir && /Users/biocbuild/BBS/utils/build-universal.sh iGC_1.34.0.tar.gz /Library/Frameworks/R.framework/Resources/bin/R iGC.buildbin-libdir StartedAt: 2024-06-11 11:39:20 -0400 (Tue, 11 Jun 2024) EndedAt: 2024-06-11 11:39:30 -0400 (Tue, 11 Jun 2024) EllapsedTime: 9.8 seconds RetCode: 0 Status: OK PackageFile: iGC_1.34.0.tgz PackageFileSize: 3.147 MiB