Package: iGC Version: 1.34.0 Command: rm -rf iGC.buildbin-libdir && mkdir iGC.buildbin-libdir && /Users/biocbuild/BBS/utils/build-universal.sh iGC_1.34.0.tar.gz /Library/Frameworks/R.framework/Resources/bin/R iGC.buildbin-libdir StartedAt: 2024-10-18 18:59:02 -0400 (Fri, 18 Oct 2024) EndedAt: 2024-10-18 18:59:09 -0400 (Fri, 18 Oct 2024) EllapsedTime: 6.8 seconds RetCode: 0 Status: OK PackageFile: iGC_1.34.0.tgz PackageFileSize: 3.148 MiB