Package: iClusterPlus Version: 1.40.0 Command: chmod a+r iClusterPlus -R && F:\biocbuild\bbs-3.19-bioc\R\bin\R.exe CMD build --keep-empty-dirs --no-resave-data iClusterPlus StartedAt: 2024-06-26 19:31:24 -0400 (Wed, 26 Jun 2024) EndedAt: 2024-06-26 19:32:04 -0400 (Wed, 26 Jun 2024) EllapsedTime: 39.5 seconds RetCode: 0 Status: OK PackageFile: iClusterPlus_1.40.0.tar.gz PackageFileSize: 20.6 MiB