Package: iClusterPlus Version: 1.40.0 Command: /Library/Frameworks/R.framework/Resources/bin/R CMD INSTALL iClusterPlus StartedAt: 2024-06-09 15:06:11 -0400 (Sun, 09 Jun 2024) EndedAt: 2024-06-09 15:06:57 -0400 (Sun, 09 Jun 2024) EllapsedTime: 45.8 seconds RetCode: 0 Status: OK