Package: iClusterPlus Version: 1.40.0 Command: rm -rf iClusterPlus.buildbin-libdir && mkdir iClusterPlus.buildbin-libdir && /Users/biocbuild/BBS/utils/build-universal.sh iClusterPlus_1.40.0.tar.gz /Library/Frameworks/R.framework/Resources/bin/R iClusterPlus.buildbin-libdir StartedAt: 2024-06-11 11:38:35 -0400 (Tue, 11 Jun 2024) EndedAt: 2024-06-11 11:39:49 -0400 (Tue, 11 Jun 2024) EllapsedTime: 73.1 seconds RetCode: 0 Status: OK PackageFile: iClusterPlus_1.40.0.tgz PackageFileSize: 16.12 MiB