Package: iClusterPlus Version: 1.40.0 Command: /Library/Frameworks/R.framework/Resources/bin/R CMD check --install=check:iClusterPlus.install-out.txt --library=/Library/Frameworks/R.framework/Resources/library --no-vignettes --timings iClusterPlus_1.40.0.tar.gz StartedAt: 2024-10-18 00:52:53 -0400 (Fri, 18 Oct 2024) EndedAt: 2024-10-18 00:54:43 -0400 (Fri, 18 Oct 2024) EllapsedTime: 110.1 seconds RetCode: 0 Status: OK CheckDir: iClusterPlus.Rcheck Warnings: 0