Package: iClusterPlus Version: 1.40.0 Maintainer: Qianxing Mo , Ronglai Shen MaintainerEmail: shenr at mskcc.org git_url: https://git.bioconductor.org/packages/iClusterPlus git_branch: RELEASE_3_19 git_last_commit: 0d5cea2 git_last_commit_date: 2024-04-30 10:34:50 -0400 (Tue, 30 Apr 2024)