Package: iChip Version: 1.58.0 Command: /Library/Frameworks/R.framework/Resources/bin/R CMD build --keep-empty-dirs --no-resave-data iChip StartedAt: 2024-10-17 02:34:01 -0400 (Thu, 17 Oct 2024) EndedAt: 2024-10-17 02:35:16 -0400 (Thu, 17 Oct 2024) EllapsedTime: 75.0 seconds RetCode: 0 Status: OK PackageFile: iChip_1.58.0.tar.gz PackageFileSize: 1.708 MiB