Package: iCheck Version: 1.34.0 Command: E:\biocbuild\bbs-3.19-bioc\R\bin\R.exe CMD check --no-multiarch --install=check:iCheck.install-out.txt --library=E:\biocbuild\bbs-3.19-bioc\R\library --no-vignettes --timings iCheck_1.34.0.tar.gz StartedAt: 2024-10-17 02:26:47 -0400 (Thu, 17 Oct 2024) EndedAt: 2024-10-17 02:32:41 -0400 (Thu, 17 Oct 2024) EllapsedTime: 354.7 seconds RetCode: 0 Status: OK CheckDir: iCheck.Rcheck Warnings: 0