Package: iCheck Version: 1.34.0 Command: chmod a+r iCheck -R && E:\biocbuild\bbs-3.19-bioc\R\bin\R.exe CMD build --keep-empty-dirs --no-resave-data iCheck StartedAt: 2024-10-16 19:45:31 -0400 (Wed, 16 Oct 2024) EndedAt: 2024-10-16 19:46:51 -0400 (Wed, 16 Oct 2024) EllapsedTime: 79.7 seconds RetCode: 0 Status: OK PackageFile: iCheck_1.34.0.tar.gz PackageFileSize: 379 KiB