Package: iCheck Version: 1.34.0 Command: rm -rf iCheck.buildbin-libdir && mkdir iCheck.buildbin-libdir && E:\biocbuild\bbs-3.19-bioc\R\bin\R.exe CMD INSTALL --build --library=iCheck.buildbin-libdir iCheck_1.34.0.tar.gz StartedAt: 2024-10-17 07:58:38 -0400 (Thu, 17 Oct 2024) EndedAt: 2024-10-17 07:59:47 -0400 (Thu, 17 Oct 2024) EllapsedTime: 69.0 seconds RetCode: 0 Status: OK PackageFile: iCheck_1.34.0.zip PackageFileSize: 599.6 KiB