Package: iCheck Version: 1.34.0 Command: rm -rf iCheck.buildbin-libdir && mkdir iCheck.buildbin-libdir && /Users/biocbuild/BBS/utils/build-universal.sh iCheck_1.34.0.tar.gz /Library/Frameworks/R.framework/Resources/bin/R iCheck.buildbin-libdir StartedAt: 2024-06-11 11:38:26 -0400 (Tue, 11 Jun 2024) EndedAt: 2024-06-11 11:40:07 -0400 (Tue, 11 Jun 2024) EllapsedTime: 101.7 seconds RetCode: 0 Status: OK PackageFile: iCheck_1.34.0.tgz PackageFileSize: 771.9 KiB