Package: iCheck Version: 1.34.0 Command: /Library/Frameworks/R.framework/Resources/bin/R CMD check --install=check:iCheck.install-out.txt --library=/Library/Frameworks/R.framework/Resources/library --no-vignettes --timings iCheck_1.34.0.tar.gz StartedAt: 2024-10-18 00:52:25 -0400 (Fri, 18 Oct 2024) EndedAt: 2024-10-18 00:58:47 -0400 (Fri, 18 Oct 2024) EllapsedTime: 382.2 seconds RetCode: 0 Status: OK CheckDir: iCheck.Rcheck Warnings: 0