Package: iCheck Version: 1.34.0 Command: rm -rf iCheck.buildbin-libdir && mkdir iCheck.buildbin-libdir && /Users/biocbuild/BBS/utils/build-universal.sh iCheck_1.34.0.tar.gz /Library/Frameworks/R.framework/Resources/bin/R iCheck.buildbin-libdir StartedAt: 2024-10-18 18:57:50 -0400 (Fri, 18 Oct 2024) EndedAt: 2024-10-18 18:59:01 -0400 (Fri, 18 Oct 2024) EllapsedTime: 70.8 seconds RetCode: 0 Status: OK PackageFile: iCheck_1.34.0.tgz PackageFileSize: 771.9 KiB