Package: iCOBRA Version: 1.32.0 Command: chmod a+r iCOBRA -R && E:\biocbuild\bbs-3.19-bioc\R\bin\R.exe CMD build --keep-empty-dirs --no-resave-data iCOBRA StartedAt: 2024-10-16 19:45:59 -0400 (Wed, 16 Oct 2024) EndedAt: 2024-10-16 19:46:40 -0400 (Wed, 16 Oct 2024) EllapsedTime: 40.4 seconds RetCode: 0 Status: OK PackageFile: iCOBRA_1.32.0.tar.gz PackageFileSize: 2.806 MiB