Package: iCOBRA Version: 1.32.0 Command: rm -rf iCOBRA.buildbin-libdir && mkdir iCOBRA.buildbin-libdir && E:\biocbuild\bbs-3.19-bioc\R\bin\R.exe CMD INSTALL --build --library=iCOBRA.buildbin-libdir iCOBRA_1.32.0.tar.gz StartedAt: 2024-10-17 07:58:44 -0400 (Thu, 17 Oct 2024) EndedAt: 2024-10-17 07:59:44 -0400 (Thu, 17 Oct 2024) EllapsedTime: 59.6 seconds RetCode: 0 Status: OK PackageFile: iCOBRA_1.32.0.zip PackageFileSize: 2.411 MiB